BEGIN:VCALENDAR
VERSION:2.0
PRODID:https://www.kufer.de/kuferweb / DE
METHOD:PUBLISH
CALSCALE:GREGORIAN
X-WR-TIMEZONE:Europe/Berlin
BEGIN:VTIMEZONE
TZID:Europe/Berlin
X-LIC-LOCATION:Europe/Berlin
BEGIN:DAYLIGHT
TZOFFSETFROM:+0100
TZOFFSETTO:+0200
TZNAME:CEST
DTSTART:19700329T020000
RRULE:FREQ=YEARLY;INTERVAL=1;BYDAY=-1SU;BYMONTH=3
END:DAYLIGHT
BEGIN:STANDARD
TZOFFSETFROM:+0200
TZOFFSETTO:+0100
TZNAME:CET
DTSTART:19701025T030000
RRULE:FREQ=YEARLY;INTERVAL=1;BYDAY=-1SU;BYMONTH=10
END:STANDARD
END:VTIMEZONE
BEGIN:VEVENT
DTSTAMP:20260420T105708
DTSTART;TZID=Europe/Berlin:20260703T210000
DTEND;TZID=Europe/Berlin:20260703T230000
UID:261351105-20260703T210000@VHSVÖLKLINGEN
SUMMARY:Fledermäuse bei der Jagd erleben - Wanderung um den Burbacher Weiher (Erwachsene / Kinder ab 6 Jahren in Begleitung eines Erziehungsberechtigten) (261351105) 
LOCATION:Burbacher Weiher, Im Weyerbachtal 30, 66115 Saarbrücken
END:VEVENT
END:VCALENDAR