BEGIN:VCALENDAR
VERSION:2.0
PRODID:https://www.kufer.de/kuferweb / DE
METHOD:PUBLISH
CALSCALE:GREGORIAN
X-WR-TIMEZONE:Europe/Berlin
BEGIN:VTIMEZONE
TZID:Europe/Berlin
X-LIC-LOCATION:Europe/Berlin
BEGIN:DAYLIGHT
TZOFFSETFROM:+0100
TZOFFSETTO:+0200
TZNAME:CEST
DTSTART:19700329T020000
RRULE:FREQ=YEARLY;INTERVAL=1;BYDAY=-1SU;BYMONTH=3
END:DAYLIGHT
BEGIN:STANDARD
TZOFFSETFROM:+0200
TZOFFSETTO:+0100
TZNAME:CET
DTSTART:19701025T030000
RRULE:FREQ=YEARLY;INTERVAL=1;BYDAY=-1SU;BYMONTH=10
END:STANDARD
END:VTIMEZONE
BEGIN:VEVENT
DTSTAMP:20260420T105655
DTSTART;TZID=Europe/Berlin:20260312T100000
DTEND;TZID=Europe/Berlin:20260312T113000
UID:261710001-20260312T100000@VHSVÖLKLINGEN
SUMMARY:Englisch - Niveau A0, Stufe 1 (für Teilnehmende ohne Vorkenntnisse) (261710001) 
LOCATION:Altes Rathaus, Raum 3.10, Bismarckstraße 1, 66333 Völklingen
END:VEVENT
BEGIN:VEVENT
DTSTAMP:20260420T105655
DTSTART;TZID=Europe/Berlin:20260423T100000
DTEND;TZID=Europe/Berlin:20260423T113000
UID:261710001-20260423T100000@VHSVÖLKLINGEN
SUMMARY:Englisch - Niveau A0, Stufe 1 (für Teilnehmende ohne Vorkenntnisse) (261710001) 
LOCATION:Altes Rathaus, Raum 3.10, Bismarckstraße 1, 66333 Völklingen
END:VEVENT
BEGIN:VEVENT
DTSTAMP:20260420T105655
DTSTART;TZID=Europe/Berlin:20260430T100000
DTEND;TZID=Europe/Berlin:20260430T113000
UID:261710001-20260430T100000@VHSVÖLKLINGEN
SUMMARY:Englisch - Niveau A0, Stufe 1 (für Teilnehmende ohne Vorkenntnisse) (261710001) 
LOCATION:Altes Rathaus, Raum 3.10, Bismarckstraße 1, 66333 Völklingen
END:VEVENT
BEGIN:VEVENT
DTSTAMP:20260420T105655
DTSTART;TZID=Europe/Berlin:20260507T100000
DTEND;TZID=Europe/Berlin:20260507T113000
UID:261710001-20260507T100000@VHSVÖLKLINGEN
SUMMARY:Englisch - Niveau A0, Stufe 1 (für Teilnehmende ohne Vorkenntnisse) (261710001) 
LOCATION:Altes Rathaus, Raum 3.10, Bismarckstraße 1, 66333 Völklingen
END:VEVENT
BEGIN:VEVENT
DTSTAMP:20260420T105655
DTSTART;TZID=Europe/Berlin:20260521T100000
DTEND;TZID=Europe/Berlin:20260521T113000
UID:261710001-20260521T100000@VHSVÖLKLINGEN
SUMMARY:Englisch - Niveau A0, Stufe 1 (für Teilnehmende ohne Vorkenntnisse) (261710001) 
LOCATION:Altes Rathaus, Raum 3.10, Bismarckstraße 1, 66333 Völklingen
END:VEVENT
BEGIN:VEVENT
DTSTAMP:20260420T105655
DTSTART;TZID=Europe/Berlin:20260528T100000
DTEND;TZID=Europe/Berlin:20260528T113000
UID:261710001-20260528T100000@VHSVÖLKLINGEN
SUMMARY:Englisch - Niveau A0, Stufe 1 (für Teilnehmende ohne Vorkenntnisse) (261710001) 
LOCATION:Altes Rathaus, Raum 3.10, Bismarckstraße 1, 66333 Völklingen
END:VEVENT
BEGIN:VEVENT
DTSTAMP:20260420T105655
DTSTART;TZID=Europe/Berlin:20260611T100000
DTEND;TZID=Europe/Berlin:20260611T113000
UID:261710001-20260611T100000@VHSVÖLKLINGEN
SUMMARY:Englisch - Niveau A0, Stufe 1 (für Teilnehmende ohne Vorkenntnisse) (261710001) 
LOCATION:Altes Rathaus, Raum 3.10, Bismarckstraße 1, 66333 Völklingen
END:VEVENT
BEGIN:VEVENT
DTSTAMP:20260420T105655
DTSTART;TZID=Europe/Berlin:20260618T100000
DTEND;TZID=Europe/Berlin:20260618T113000
UID:261710001-20260618T100000@VHSVÖLKLINGEN
SUMMARY:Englisch - Niveau A0, Stufe 1 (für Teilnehmende ohne Vorkenntnisse) (261710001) 
LOCATION:Altes Rathaus, Raum 3.10, Bismarckstraße 1, 66333 Völklingen
END:VEVENT
BEGIN:VEVENT
DTSTAMP:20260420T105655
DTSTART;TZID=Europe/Berlin:20260625T100000
DTEND;TZID=Europe/Berlin:20260625T113000
UID:261710001-20260625T100000@VHSVÖLKLINGEN
SUMMARY:Englisch - Niveau A0, Stufe 1 (für Teilnehmende ohne Vorkenntnisse) (261710001) 
LOCATION:Altes Rathaus, Raum 3.10, Bismarckstraße 1, 66333 Völklingen
END:VEVENT
END:VCALENDAR