BEGIN:VCALENDAR
VERSION:2.0
PRODID:https://www.kufer.de/kuferweb / DE
METHOD:PUBLISH
CALSCALE:GREGORIAN
X-WR-TIMEZONE:Europe/Berlin
BEGIN:VTIMEZONE
TZID:Europe/Berlin
X-LIC-LOCATION:Europe/Berlin
BEGIN:DAYLIGHT
TZOFFSETFROM:+0100
TZOFFSETTO:+0200
TZNAME:CEST
DTSTART:19700329T020000
RRULE:FREQ=YEARLY;INTERVAL=1;BYDAY=-1SU;BYMONTH=3
END:DAYLIGHT
BEGIN:STANDARD
TZOFFSETFROM:+0200
TZOFFSETTO:+0100
TZNAME:CET
DTSTART:19701025T030000
RRULE:FREQ=YEARLY;INTERVAL=1;BYDAY=-1SU;BYMONTH=10
END:STANDARD
END:VTIMEZONE
BEGIN:VEVENT
DTSTAMP:20260420T160858
DTSTART;TZID=Europe/Berlin:20260323T083000
DTEND;TZID=Europe/Berlin:20260323T133000
UID:261759088A-20260323T083000@VHSVÖLKLINGEN
SUMMARY:Allgemeiner Integrationskurs SL 88-2026 (261759088A) 
LOCATION:Lernzentrum Luisenthal, Raum 3, Neue Straße 14, 66333 Völklingen
END:VEVENT
BEGIN:VEVENT
DTSTAMP:20260420T160858
DTSTART;TZID=Europe/Berlin:20260324T083000
DTEND;TZID=Europe/Berlin:20260324T133000
UID:261759088A-20260324T083000@VHSVÖLKLINGEN
SUMMARY:Allgemeiner Integrationskurs SL 88-2026 (261759088A) 
LOCATION:Lernzentrum Luisenthal, Raum 3, Neue Straße 14, 66333 Völklingen
END:VEVENT
BEGIN:VEVENT
DTSTAMP:20260420T160858
DTSTART;TZID=Europe/Berlin:20260325T083000
DTEND;TZID=Europe/Berlin:20260325T133000
UID:261759088A-20260325T083000@VHSVÖLKLINGEN
SUMMARY:Allgemeiner Integrationskurs SL 88-2026 (261759088A) 
LOCATION:Lernzentrum Luisenthal, Raum 3, Neue Straße 14, 66333 Völklingen
END:VEVENT
BEGIN:VEVENT
DTSTAMP:20260420T160858
DTSTART;TZID=Europe/Berlin:20260326T083000
DTEND;TZID=Europe/Berlin:20260326T141500
UID:261759088A-20260326T083000@VHSVÖLKLINGEN
SUMMARY:Allgemeiner Integrationskurs SL 88-2026 (261759088A) 
LOCATION:Lernzentrum Luisenthal, Raum 3, Neue Straße 14, 66333 Völklingen
END:VEVENT
BEGIN:VEVENT
DTSTAMP:20260420T160858
DTSTART;TZID=Europe/Berlin:20260330T083000
DTEND;TZID=Europe/Berlin:20260330T133000
UID:261759088A-20260330T083000@VHSVÖLKLINGEN
SUMMARY:Allgemeiner Integrationskurs SL 88-2026 (261759088A) 
LOCATION:Lernzentrum Luisenthal, Raum 3, Neue Straße 14, 66333 Völklingen
END:VEVENT
BEGIN:VEVENT
DTSTAMP:20260420T160858
DTSTART;TZID=Europe/Berlin:20260331T083000
DTEND;TZID=Europe/Berlin:20260331T133000
UID:261759088A-20260331T083000@VHSVÖLKLINGEN
SUMMARY:Allgemeiner Integrationskurs SL 88-2026 (261759088A) 
LOCATION:Lernzentrum Luisenthal, Raum 3, Neue Straße 14, 66333 Völklingen
END:VEVENT
BEGIN:VEVENT
DTSTAMP:20260420T160858
DTSTART;TZID=Europe/Berlin:20260401T083000
DTEND;TZID=Europe/Berlin:20260401T133000
UID:261759088A-20260401T083000@VHSVÖLKLINGEN
SUMMARY:Allgemeiner Integrationskurs SL 88-2026 (261759088A) 
LOCATION:Lernzentrum Luisenthal, Raum 3, Neue Straße 14, 66333 Völklingen
END:VEVENT
BEGIN:VEVENT
DTSTAMP:20260420T160858
DTSTART;TZID=Europe/Berlin:20260402T083000
DTEND;TZID=Europe/Berlin:20260402T141500
UID:261759088A-20260402T083000@VHSVÖLKLINGEN
SUMMARY:Allgemeiner Integrationskurs SL 88-2026 (261759088A) 
LOCATION:Lernzentrum Luisenthal, Raum 3, Neue Straße 14, 66333 Völklingen
END:VEVENT
BEGIN:VEVENT
DTSTAMP:20260420T160858
DTSTART;TZID=Europe/Berlin:20260420T083000
DTEND;TZID=Europe/Berlin:20260420T133000
UID:261759088A-20260420T083000@VHSVÖLKLINGEN
SUMMARY:Allgemeiner Integrationskurs SL 88-2026 (261759088A) 
LOCATION:Lernzentrum Luisenthal, Raum 3, Neue Straße 14, 66333 Völklingen
END:VEVENT
BEGIN:VEVENT
DTSTAMP:20260420T160858
DTSTART;TZID=Europe/Berlin:20260421T083000
DTEND;TZID=Europe/Berlin:20260421T133000
UID:261759088A-20260421T083000@VHSVÖLKLINGEN
SUMMARY:Allgemeiner Integrationskurs SL 88-2026 (261759088A) 
LOCATION:Lernzentrum Luisenthal, Raum 3, Neue Straße 14, 66333 Völklingen
END:VEVENT
BEGIN:VEVENT
DTSTAMP:20260420T160858
DTSTART;TZID=Europe/Berlin:20260422T083000
DTEND;TZID=Europe/Berlin:20260422T133000
UID:261759088A-20260422T083000@VHSVÖLKLINGEN
SUMMARY:Allgemeiner Integrationskurs SL 88-2026 (261759088A) 
LOCATION:Lernzentrum Luisenthal, Raum 3, Neue Straße 14, 66333 Völklingen
END:VEVENT
BEGIN:VEVENT
DTSTAMP:20260420T160858
DTSTART;TZID=Europe/Berlin:20260423T083000
DTEND;TZID=Europe/Berlin:20260423T141500
UID:261759088A-20260423T083000@VHSVÖLKLINGEN
SUMMARY:Allgemeiner Integrationskurs SL 88-2026 (261759088A) 
LOCATION:Lernzentrum Luisenthal, Raum 3, Neue Straße 14, 66333 Völklingen
END:VEVENT
BEGIN:VEVENT
DTSTAMP:20260420T160858
DTSTART;TZID=Europe/Berlin:20260427T083000
DTEND;TZID=Europe/Berlin:20260427T133000
UID:261759088A-20260427T083000@VHSVÖLKLINGEN
SUMMARY:Allgemeiner Integrationskurs SL 88-2026 (261759088A) 
LOCATION:Lernzentrum Luisenthal, Raum 3, Neue Straße 14, 66333 Völklingen
END:VEVENT
BEGIN:VEVENT
DTSTAMP:20260420T160858
DTSTART;TZID=Europe/Berlin:20260428T083000
DTEND;TZID=Europe/Berlin:20260428T133000
UID:261759088A-20260428T083000@VHSVÖLKLINGEN
SUMMARY:Allgemeiner Integrationskurs SL 88-2026 (261759088A) 
LOCATION:Lernzentrum Luisenthal, Raum 3, Neue Straße 14, 66333 Völklingen
END:VEVENT
BEGIN:VEVENT
DTSTAMP:20260420T160858
DTSTART;TZID=Europe/Berlin:20260429T083000
DTEND;TZID=Europe/Berlin:20260429T133000
UID:261759088A-20260429T083000@VHSVÖLKLINGEN
SUMMARY:Allgemeiner Integrationskurs SL 88-2026 (261759088A) 
LOCATION:Lernzentrum Luisenthal, Raum 3, Neue Straße 14, 66333 Völklingen
END:VEVENT
BEGIN:VEVENT
DTSTAMP:20260420T160858
DTSTART;TZID=Europe/Berlin:20260430T083000
DTEND;TZID=Europe/Berlin:20260430T141500
UID:261759088A-20260430T083000@VHSVÖLKLINGEN
SUMMARY:Allgemeiner Integrationskurs SL 88-2026 (261759088A) 
LOCATION:Lernzentrum Luisenthal, Raum 3, Neue Straße 14, 66333 Völklingen
END:VEVENT
END:VCALENDAR