BEGIN:VCALENDAR
VERSION:2.0
PRODID:https://www.kufer.de/kuferweb / DE
METHOD:PUBLISH
CALSCALE:GREGORIAN
X-WR-TIMEZONE:Europe/Berlin
BEGIN:VTIMEZONE
TZID:Europe/Berlin
X-LIC-LOCATION:Europe/Berlin
BEGIN:DAYLIGHT
TZOFFSETFROM:+0100
TZOFFSETTO:+0200
TZNAME:CEST
DTSTART:19700329T020000
RRULE:FREQ=YEARLY;INTERVAL=1;BYDAY=-1SU;BYMONTH=3
END:DAYLIGHT
BEGIN:STANDARD
TZOFFSETFROM:+0200
TZOFFSETTO:+0100
TZNAME:CET
DTSTART:19701025T030000
RRULE:FREQ=YEARLY;INTERVAL=1;BYDAY=-1SU;BYMONTH=10
END:STANDARD
END:VTIMEZONE
BEGIN:VEVENT
DTSTAMP:20260420T160943
DTSTART;TZID=Europe/Berlin:20260504T083000
DTEND;TZID=Europe/Berlin:20260504T133000
UID:261759088B-20260504T083000@VHSVÖLKLINGEN
SUMMARY:Allgemeiner Integrationskurs SL 88-2026 (261759088B) 
LOCATION:Lernzentrum Luisenthal, Raum 3, Neue Straße 14, 66333 Völklingen
END:VEVENT
BEGIN:VEVENT
DTSTAMP:20260420T160943
DTSTART;TZID=Europe/Berlin:20260505T083000
DTEND;TZID=Europe/Berlin:20260505T133000
UID:261759088B-20260505T083000@VHSVÖLKLINGEN
SUMMARY:Allgemeiner Integrationskurs SL 88-2026 (261759088B) 
LOCATION:Lernzentrum Luisenthal, Raum 3, Neue Straße 14, 66333 Völklingen
END:VEVENT
BEGIN:VEVENT
DTSTAMP:20260420T160943
DTSTART;TZID=Europe/Berlin:20260506T083000
DTEND;TZID=Europe/Berlin:20260506T133000
UID:261759088B-20260506T083000@VHSVÖLKLINGEN
SUMMARY:Allgemeiner Integrationskurs SL 88-2026 (261759088B) 
LOCATION:Lernzentrum Luisenthal, Raum 3, Neue Straße 14, 66333 Völklingen
END:VEVENT
BEGIN:VEVENT
DTSTAMP:20260420T160943
DTSTART;TZID=Europe/Berlin:20260507T083000
DTEND;TZID=Europe/Berlin:20260507T141500
UID:261759088B-20260507T083000@VHSVÖLKLINGEN
SUMMARY:Allgemeiner Integrationskurs SL 88-2026 (261759088B) 
LOCATION:Lernzentrum Luisenthal, Raum 3, Neue Straße 14, 66333 Völklingen
END:VEVENT
BEGIN:VEVENT
DTSTAMP:20260420T160943
DTSTART;TZID=Europe/Berlin:20260511T083000
DTEND;TZID=Europe/Berlin:20260511T133000
UID:261759088B-20260511T083000@VHSVÖLKLINGEN
SUMMARY:Allgemeiner Integrationskurs SL 88-2026 (261759088B) 
LOCATION:Lernzentrum Luisenthal, Raum 3, Neue Straße 14, 66333 Völklingen
END:VEVENT
BEGIN:VEVENT
DTSTAMP:20260420T160943
DTSTART;TZID=Europe/Berlin:20260512T083000
DTEND;TZID=Europe/Berlin:20260512T133000
UID:261759088B-20260512T083000@VHSVÖLKLINGEN
SUMMARY:Allgemeiner Integrationskurs SL 88-2026 (261759088B) 
LOCATION:Lernzentrum Luisenthal, Raum 3, Neue Straße 14, 66333 Völklingen
END:VEVENT
BEGIN:VEVENT
DTSTAMP:20260420T160943
DTSTART;TZID=Europe/Berlin:20260513T083000
DTEND;TZID=Europe/Berlin:20260513T133000
UID:261759088B-20260513T083000@VHSVÖLKLINGEN
SUMMARY:Allgemeiner Integrationskurs SL 88-2026 (261759088B) 
LOCATION:Lernzentrum Luisenthal, Raum 3, Neue Straße 14, 66333 Völklingen
END:VEVENT
BEGIN:VEVENT
DTSTAMP:20260420T160943
DTSTART;TZID=Europe/Berlin:20260518T083000
DTEND;TZID=Europe/Berlin:20260518T133000
UID:261759088B-20260518T083000@VHSVÖLKLINGEN
SUMMARY:Allgemeiner Integrationskurs SL 88-2026 (261759088B) 
LOCATION:Lernzentrum Luisenthal, Raum 3, Neue Straße 14, 66333 Völklingen
END:VEVENT
BEGIN:VEVENT
DTSTAMP:20260420T160943
DTSTART;TZID=Europe/Berlin:20260519T083000
DTEND;TZID=Europe/Berlin:20260519T133000
UID:261759088B-20260519T083000@VHSVÖLKLINGEN
SUMMARY:Allgemeiner Integrationskurs SL 88-2026 (261759088B) 
LOCATION:Lernzentrum Luisenthal, Raum 3, Neue Straße 14, 66333 Völklingen
END:VEVENT
BEGIN:VEVENT
DTSTAMP:20260420T160943
DTSTART;TZID=Europe/Berlin:20260520T083000
DTEND;TZID=Europe/Berlin:20260520T133000
UID:261759088B-20260520T083000@VHSVÖLKLINGEN
SUMMARY:Allgemeiner Integrationskurs SL 88-2026 (261759088B) 
LOCATION:Lernzentrum Luisenthal, Raum 3, Neue Straße 14, 66333 Völklingen
END:VEVENT
BEGIN:VEVENT
DTSTAMP:20260420T160943
DTSTART;TZID=Europe/Berlin:20260521T083000
DTEND;TZID=Europe/Berlin:20260521T141500
UID:261759088B-20260521T083000@VHSVÖLKLINGEN
SUMMARY:Allgemeiner Integrationskurs SL 88-2026 (261759088B) 
LOCATION:Lernzentrum Luisenthal, Raum 3, Neue Straße 14, 66333 Völklingen
END:VEVENT
BEGIN:VEVENT
DTSTAMP:20260420T160943
DTSTART;TZID=Europe/Berlin:20260526T083000
DTEND;TZID=Europe/Berlin:20260526T133000
UID:261759088B-20260526T083000@VHSVÖLKLINGEN
SUMMARY:Allgemeiner Integrationskurs SL 88-2026 (261759088B) 
LOCATION:Lernzentrum Luisenthal, Raum 3, Neue Straße 14, 66333 Völklingen
END:VEVENT
BEGIN:VEVENT
DTSTAMP:20260420T160943
DTSTART;TZID=Europe/Berlin:20260527T083000
DTEND;TZID=Europe/Berlin:20260527T133000
UID:261759088B-20260527T083000@VHSVÖLKLINGEN
SUMMARY:Allgemeiner Integrationskurs SL 88-2026 (261759088B) 
LOCATION:Lernzentrum Luisenthal, Raum 3, Neue Straße 14, 66333 Völklingen
END:VEVENT
BEGIN:VEVENT
DTSTAMP:20260420T160943
DTSTART;TZID=Europe/Berlin:20260528T083000
DTEND;TZID=Europe/Berlin:20260528T141500
UID:261759088B-20260528T083000@VHSVÖLKLINGEN
SUMMARY:Allgemeiner Integrationskurs SL 88-2026 (261759088B) 
LOCATION:Lernzentrum Luisenthal, Raum 3, Neue Straße 14, 66333 Völklingen
END:VEVENT
BEGIN:VEVENT
DTSTAMP:20260420T160943
DTSTART;TZID=Europe/Berlin:20260601T083000
DTEND;TZID=Europe/Berlin:20260601T133000
UID:261759088B-20260601T083000@VHSVÖLKLINGEN
SUMMARY:Allgemeiner Integrationskurs SL 88-2026 (261759088B) 
LOCATION:Lernzentrum Luisenthal, Raum 3, Neue Straße 14, 66333 Völklingen
END:VEVENT
BEGIN:VEVENT
DTSTAMP:20260420T160943
DTSTART;TZID=Europe/Berlin:20260602T083000
DTEND;TZID=Europe/Berlin:20260602T141500
UID:261759088B-20260602T083000@VHSVÖLKLINGEN
SUMMARY:Allgemeiner Integrationskurs SL 88-2026 (261759088B) 
LOCATION:Lernzentrum Luisenthal, Raum 3, Neue Straße 14, 66333 Völklingen
END:VEVENT
END:VCALENDAR