BEGIN:VCALENDAR
VERSION:2.0
PRODID:https://www.kufer.de/kuferweb / DE
METHOD:PUBLISH
CALSCALE:GREGORIAN
X-WR-TIMEZONE:Europe/Berlin
BEGIN:VTIMEZONE
TZID:Europe/Berlin
X-LIC-LOCATION:Europe/Berlin
BEGIN:DAYLIGHT
TZOFFSETFROM:+0100
TZOFFSETTO:+0200
TZNAME:CEST
DTSTART:19700329T020000
RRULE:FREQ=YEARLY;INTERVAL=1;BYDAY=-1SU;BYMONTH=3
END:DAYLIGHT
BEGIN:STANDARD
TZOFFSETFROM:+0200
TZOFFSETTO:+0100
TZNAME:CET
DTSTART:19701025T030000
RRULE:FREQ=YEARLY;INTERVAL=1;BYDAY=-1SU;BYMONTH=10
END:STANDARD
END:VTIMEZONE
BEGIN:VEVENT
DTSTAMP:20260420T160902
DTSTART;TZID=Europe/Berlin:20260603T083000
DTEND;TZID=Europe/Berlin:20260603T133000
UID:261759088C-20260603T083000@VHSVÖLKLINGEN
SUMMARY:Allgemeiner Integrationskurs SL 88-2026 (261759088C) 
LOCATION:Lernzentrum Luisenthal, Raum 3, Neue Straße 14, 66333 Völklingen
END:VEVENT
BEGIN:VEVENT
DTSTAMP:20260420T160902
DTSTART;TZID=Europe/Berlin:20260608T083000
DTEND;TZID=Europe/Berlin:20260608T133000
UID:261759088C-20260608T083000@VHSVÖLKLINGEN
SUMMARY:Allgemeiner Integrationskurs SL 88-2026 (261759088C) 
LOCATION:Lernzentrum Luisenthal, Raum 3, Neue Straße 14, 66333 Völklingen
END:VEVENT
BEGIN:VEVENT
DTSTAMP:20260420T160902
DTSTART;TZID=Europe/Berlin:20260609T083000
DTEND;TZID=Europe/Berlin:20260609T133000
UID:261759088C-20260609T083000@VHSVÖLKLINGEN
SUMMARY:Allgemeiner Integrationskurs SL 88-2026 (261759088C) 
LOCATION:Lernzentrum Luisenthal, Raum 3, Neue Straße 14, 66333 Völklingen
END:VEVENT
BEGIN:VEVENT
DTSTAMP:20260420T160902
DTSTART;TZID=Europe/Berlin:20260610T083000
DTEND;TZID=Europe/Berlin:20260610T133000
UID:261759088C-20260610T083000@VHSVÖLKLINGEN
SUMMARY:Allgemeiner Integrationskurs SL 88-2026 (261759088C) 
LOCATION:Lernzentrum Luisenthal, Raum 3, Neue Straße 14, 66333 Völklingen
END:VEVENT
BEGIN:VEVENT
DTSTAMP:20260420T160902
DTSTART;TZID=Europe/Berlin:20260611T083000
DTEND;TZID=Europe/Berlin:20260611T141500
UID:261759088C-20260611T083000@VHSVÖLKLINGEN
SUMMARY:Allgemeiner Integrationskurs SL 88-2026 (261759088C) 
LOCATION:Lernzentrum Luisenthal, Raum 3, Neue Straße 14, 66333 Völklingen
END:VEVENT
BEGIN:VEVENT
DTSTAMP:20260420T160902
DTSTART;TZID=Europe/Berlin:20260615T083000
DTEND;TZID=Europe/Berlin:20260615T133000
UID:261759088C-20260615T083000@VHSVÖLKLINGEN
SUMMARY:Allgemeiner Integrationskurs SL 88-2026 (261759088C) 
LOCATION:Lernzentrum Luisenthal, Raum 3, Neue Straße 14, 66333 Völklingen
END:VEVENT
BEGIN:VEVENT
DTSTAMP:20260420T160902
DTSTART;TZID=Europe/Berlin:20260616T083000
DTEND;TZID=Europe/Berlin:20260616T133000
UID:261759088C-20260616T083000@VHSVÖLKLINGEN
SUMMARY:Allgemeiner Integrationskurs SL 88-2026 (261759088C) 
LOCATION:Lernzentrum Luisenthal, Raum 3, Neue Straße 14, 66333 Völklingen
END:VEVENT
BEGIN:VEVENT
DTSTAMP:20260420T160902
DTSTART;TZID=Europe/Berlin:20260617T083000
DTEND;TZID=Europe/Berlin:20260617T133000
UID:261759088C-20260617T083000@VHSVÖLKLINGEN
SUMMARY:Allgemeiner Integrationskurs SL 88-2026 (261759088C) 
LOCATION:Lernzentrum Luisenthal, Raum 3, Neue Straße 14, 66333 Völklingen
END:VEVENT
BEGIN:VEVENT
DTSTAMP:20260420T160902
DTSTART;TZID=Europe/Berlin:20260618T083000
DTEND;TZID=Europe/Berlin:20260618T141500
UID:261759088C-20260618T083000@VHSVÖLKLINGEN
SUMMARY:Allgemeiner Integrationskurs SL 88-2026 (261759088C) 
LOCATION:Lernzentrum Luisenthal, Raum 3, Neue Straße 14, 66333 Völklingen
END:VEVENT
BEGIN:VEVENT
DTSTAMP:20260420T160902
DTSTART;TZID=Europe/Berlin:20260622T083000
DTEND;TZID=Europe/Berlin:20260622T133000
UID:261759088C-20260622T083000@VHSVÖLKLINGEN
SUMMARY:Allgemeiner Integrationskurs SL 88-2026 (261759088C) 
LOCATION:Lernzentrum Luisenthal, Raum 3, Neue Straße 14, 66333 Völklingen
END:VEVENT
BEGIN:VEVENT
DTSTAMP:20260420T160902
DTSTART;TZID=Europe/Berlin:20260623T083000
DTEND;TZID=Europe/Berlin:20260623T133000
UID:261759088C-20260623T083000@VHSVÖLKLINGEN
SUMMARY:Allgemeiner Integrationskurs SL 88-2026 (261759088C) 
LOCATION:Lernzentrum Luisenthal, Raum 3, Neue Straße 14, 66333 Völklingen
END:VEVENT
BEGIN:VEVENT
DTSTAMP:20260420T160902
DTSTART;TZID=Europe/Berlin:20260624T083000
DTEND;TZID=Europe/Berlin:20260624T133000
UID:261759088C-20260624T083000@VHSVÖLKLINGEN
SUMMARY:Allgemeiner Integrationskurs SL 88-2026 (261759088C) 
LOCATION:Lernzentrum Luisenthal, Raum 3, Neue Straße 14, 66333 Völklingen
END:VEVENT
BEGIN:VEVENT
DTSTAMP:20260420T160902
DTSTART;TZID=Europe/Berlin:20260625T083000
DTEND;TZID=Europe/Berlin:20260625T141500
UID:261759088C-20260625T083000@VHSVÖLKLINGEN
SUMMARY:Allgemeiner Integrationskurs SL 88-2026 (261759088C) 
LOCATION:Lernzentrum Luisenthal, Raum 3, Neue Straße 14, 66333 Völklingen
END:VEVENT
BEGIN:VEVENT
DTSTAMP:20260420T160902
DTSTART;TZID=Europe/Berlin:20260629T083000
DTEND;TZID=Europe/Berlin:20260629T141500
UID:261759088C-20260629T083000@VHSVÖLKLINGEN
SUMMARY:Allgemeiner Integrationskurs SL 88-2026 (261759088C) 
LOCATION:Lernzentrum Luisenthal, Raum 3, Neue Straße 14, 66333 Völklingen
END:VEVENT
BEGIN:VEVENT
DTSTAMP:20260420T160902
DTSTART;TZID=Europe/Berlin:20260630T083000
DTEND;TZID=Europe/Berlin:20260630T133000
UID:261759088C-20260630T083000@VHSVÖLKLINGEN
SUMMARY:Allgemeiner Integrationskurs SL 88-2026 (261759088C) 
LOCATION:Lernzentrum Luisenthal, Raum 3, Neue Straße 14, 66333 Völklingen
END:VEVENT
BEGIN:VEVENT
DTSTAMP:20260420T160902
DTSTART;TZID=Europe/Berlin:20260701T083000
DTEND;TZID=Europe/Berlin:20260701T133000
UID:261759088C-20260701T083000@VHSVÖLKLINGEN
SUMMARY:Allgemeiner Integrationskurs SL 88-2026 (261759088C) 
LOCATION:Lernzentrum Luisenthal, Raum 3, Neue Straße 14, 66333 Völklingen
END:VEVENT
END:VCALENDAR