BEGIN:VCALENDAR
VERSION:2.0
PRODID:https://www.kufer.de/kuferweb / DE
METHOD:PUBLISH
CALSCALE:GREGORIAN
X-WR-TIMEZONE:Europe/Berlin
BEGIN:VTIMEZONE
TZID:Europe/Berlin
X-LIC-LOCATION:Europe/Berlin
BEGIN:DAYLIGHT
TZOFFSETFROM:+0100
TZOFFSETTO:+0200
TZNAME:CEST
DTSTART:19700329T020000
RRULE:FREQ=YEARLY;INTERVAL=1;BYDAY=-1SU;BYMONTH=3
END:DAYLIGHT
BEGIN:STANDARD
TZOFFSETFROM:+0200
TZOFFSETTO:+0100
TZNAME:CET
DTSTART:19701025T030000
RRULE:FREQ=YEARLY;INTERVAL=1;BYDAY=-1SU;BYMONTH=10
END:STANDARD
END:VTIMEZONE
BEGIN:VEVENT
DTSTAMP:20260420T160940
DTSTART;TZID=Europe/Berlin:20260702T083000
DTEND;TZID=Europe/Berlin:20260702T141500
UID:261759088D-20260702T083000@VHSVÖLKLINGEN
SUMMARY:Allgemeiner Integrationskurs SL 88-2026 (261759088D) 
LOCATION:Lernzentrum Luisenthal, Raum 3, Neue Straße 14, 66333 Völklingen
END:VEVENT
BEGIN:VEVENT
DTSTAMP:20260420T160940
DTSTART;TZID=Europe/Berlin:20260706T083000
DTEND;TZID=Europe/Berlin:20260706T133000
UID:261759088D-20260706T083000@VHSVÖLKLINGEN
SUMMARY:Allgemeiner Integrationskurs SL 88-2026 (261759088D) 
LOCATION:Lernzentrum Luisenthal, Raum 3, Neue Straße 14, 66333 Völklingen
END:VEVENT
BEGIN:VEVENT
DTSTAMP:20260420T160940
DTSTART;TZID=Europe/Berlin:20260707T083000
DTEND;TZID=Europe/Berlin:20260707T133000
UID:261759088D-20260707T083000@VHSVÖLKLINGEN
SUMMARY:Allgemeiner Integrationskurs SL 88-2026 (261759088D) 
LOCATION:Lernzentrum Luisenthal, Raum 3, Neue Straße 14, 66333 Völklingen
END:VEVENT
BEGIN:VEVENT
DTSTAMP:20260420T160940
DTSTART;TZID=Europe/Berlin:20260708T083000
DTEND;TZID=Europe/Berlin:20260708T133000
UID:261759088D-20260708T083000@VHSVÖLKLINGEN
SUMMARY:Allgemeiner Integrationskurs SL 88-2026 (261759088D) 
LOCATION:Lernzentrum Luisenthal, Raum 3, Neue Straße 14, 66333 Völklingen
END:VEVENT
BEGIN:VEVENT
DTSTAMP:20260420T160940
DTSTART;TZID=Europe/Berlin:20260709T083000
DTEND;TZID=Europe/Berlin:20260709T141500
UID:261759088D-20260709T083000@VHSVÖLKLINGEN
SUMMARY:Allgemeiner Integrationskurs SL 88-2026 (261759088D) 
LOCATION:Lernzentrum Luisenthal, Raum 3, Neue Straße 14, 66333 Völklingen
END:VEVENT
BEGIN:VEVENT
DTSTAMP:20260420T160940
DTSTART;TZID=Europe/Berlin:20260810T083000
DTEND;TZID=Europe/Berlin:20260810T133000
UID:261759088D-20260810T083000@VHSVÖLKLINGEN
SUMMARY:Allgemeiner Integrationskurs SL 88-2026 (261759088D) 
LOCATION:Lernzentrum Luisenthal, Raum 3, Neue Straße 14, 66333 Völklingen
END:VEVENT
BEGIN:VEVENT
DTSTAMP:20260420T160940
DTSTART;TZID=Europe/Berlin:20260811T083000
DTEND;TZID=Europe/Berlin:20260811T133000
UID:261759088D-20260811T083000@VHSVÖLKLINGEN
SUMMARY:Allgemeiner Integrationskurs SL 88-2026 (261759088D) 
LOCATION:Lernzentrum Luisenthal, Raum 3, Neue Straße 14, 66333 Völklingen
END:VEVENT
BEGIN:VEVENT
DTSTAMP:20260420T160940
DTSTART;TZID=Europe/Berlin:20260812T083000
DTEND;TZID=Europe/Berlin:20260812T133000
UID:261759088D-20260812T083000@VHSVÖLKLINGEN
SUMMARY:Allgemeiner Integrationskurs SL 88-2026 (261759088D) 
LOCATION:Lernzentrum Luisenthal, Raum 3, Neue Straße 14, 66333 Völklingen
END:VEVENT
BEGIN:VEVENT
DTSTAMP:20260420T160940
DTSTART;TZID=Europe/Berlin:20260813T083000
DTEND;TZID=Europe/Berlin:20260813T141500
UID:261759088D-20260813T083000@VHSVÖLKLINGEN
SUMMARY:Allgemeiner Integrationskurs SL 88-2026 (261759088D) 
LOCATION:Lernzentrum Luisenthal, Raum 3, Neue Straße 14, 66333 Völklingen
END:VEVENT
BEGIN:VEVENT
DTSTAMP:20260420T160940
DTSTART;TZID=Europe/Berlin:20260817T083000
DTEND;TZID=Europe/Berlin:20260817T133000
UID:261759088D-20260817T083000@VHSVÖLKLINGEN
SUMMARY:Allgemeiner Integrationskurs SL 88-2026 (261759088D) 
LOCATION:Lernzentrum Luisenthal, Raum 3, Neue Straße 14, 66333 Völklingen
END:VEVENT
BEGIN:VEVENT
DTSTAMP:20260420T160940
DTSTART;TZID=Europe/Berlin:20260818T083000
DTEND;TZID=Europe/Berlin:20260818T133000
UID:261759088D-20260818T083000@VHSVÖLKLINGEN
SUMMARY:Allgemeiner Integrationskurs SL 88-2026 (261759088D) 
LOCATION:Lernzentrum Luisenthal, Raum 3, Neue Straße 14, 66333 Völklingen
END:VEVENT
BEGIN:VEVENT
DTSTAMP:20260420T160940
DTSTART;TZID=Europe/Berlin:20260819T083000
DTEND;TZID=Europe/Berlin:20260819T133000
UID:261759088D-20260819T083000@VHSVÖLKLINGEN
SUMMARY:Allgemeiner Integrationskurs SL 88-2026 (261759088D) 
LOCATION:Lernzentrum Luisenthal, Raum 3, Neue Straße 14, 66333 Völklingen
END:VEVENT
BEGIN:VEVENT
DTSTAMP:20260420T160940
DTSTART;TZID=Europe/Berlin:20260820T083000
DTEND;TZID=Europe/Berlin:20260820T141500
UID:261759088D-20260820T083000@VHSVÖLKLINGEN
SUMMARY:Allgemeiner Integrationskurs SL 88-2026 (261759088D) 
LOCATION:Lernzentrum Luisenthal, Raum 3, Neue Straße 14, 66333 Völklingen
END:VEVENT
BEGIN:VEVENT
DTSTAMP:20260420T160940
DTSTART;TZID=Europe/Berlin:20260824T083000
DTEND;TZID=Europe/Berlin:20260824T133000
UID:261759088D-20260824T083000@VHSVÖLKLINGEN
SUMMARY:Allgemeiner Integrationskurs SL 88-2026 (261759088D) 
LOCATION:Lernzentrum Luisenthal, Raum 3, Neue Straße 14, 66333 Völklingen
END:VEVENT
BEGIN:VEVENT
DTSTAMP:20260420T160940
DTSTART;TZID=Europe/Berlin:20260825T083000
DTEND;TZID=Europe/Berlin:20260825T133000
UID:261759088D-20260825T083000@VHSVÖLKLINGEN
SUMMARY:Allgemeiner Integrationskurs SL 88-2026 (261759088D) 
LOCATION:Lernzentrum Luisenthal, Raum 3, Neue Straße 14, 66333 Völklingen
END:VEVENT
BEGIN:VEVENT
DTSTAMP:20260420T160940
DTSTART;TZID=Europe/Berlin:20260826T083000
DTEND;TZID=Europe/Berlin:20260826T133000
UID:261759088D-20260826T083000@VHSVÖLKLINGEN
SUMMARY:Allgemeiner Integrationskurs SL 88-2026 (261759088D) 
LOCATION:Lernzentrum Luisenthal, Raum 3, Neue Straße 14, 66333 Völklingen
END:VEVENT
END:VCALENDAR