BEGIN:VCALENDAR
VERSION:2.0
PRODID:https://www.kufer.de/kuferweb / DE
METHOD:PUBLISH
CALSCALE:GREGORIAN
X-WR-TIMEZONE:Europe/Berlin
BEGIN:VTIMEZONE
TZID:Europe/Berlin
X-LIC-LOCATION:Europe/Berlin
BEGIN:DAYLIGHT
TZOFFSETFROM:+0100
TZOFFSETTO:+0200
TZNAME:CEST
DTSTART:19700329T020000
RRULE:FREQ=YEARLY;INTERVAL=1;BYDAY=-1SU;BYMONTH=3
END:DAYLIGHT
BEGIN:STANDARD
TZOFFSETFROM:+0200
TZOFFSETTO:+0100
TZNAME:CET
DTSTART:19701025T030000
RRULE:FREQ=YEARLY;INTERVAL=1;BYDAY=-1SU;BYMONTH=10
END:STANDARD
END:VTIMEZONE
BEGIN:VEVENT
DTSTAMP:20260420T160842
DTSTART;TZID=Europe/Berlin:20260924T083000
DTEND;TZID=Europe/Berlin:20260924T141500
UID:261759088F-20260924T083000@VHSVÖLKLINGEN
SUMMARY:Allgemeiner Integrationskurs SL 88-2026 (261759088F) 
LOCATION:Lernzentrum Luisenthal, Raum 3, Neue Straße 14, 66333 Völklingen
END:VEVENT
BEGIN:VEVENT
DTSTAMP:20260420T160842
DTSTART;TZID=Europe/Berlin:20260928T083000
DTEND;TZID=Europe/Berlin:20260928T133000
UID:261759088F-20260928T083000@VHSVÖLKLINGEN
SUMMARY:Allgemeiner Integrationskurs SL 88-2026 (261759088F) 
LOCATION:Lernzentrum Luisenthal, Raum 3, Neue Straße 14, 66333 Völklingen
END:VEVENT
BEGIN:VEVENT
DTSTAMP:20260420T160842
DTSTART;TZID=Europe/Berlin:20260929T083000
DTEND;TZID=Europe/Berlin:20260929T133000
UID:261759088F-20260929T083000@VHSVÖLKLINGEN
SUMMARY:Allgemeiner Integrationskurs SL 88-2026 (261759088F) 
LOCATION:Lernzentrum Luisenthal, Raum 3, Neue Straße 14, 66333 Völklingen
END:VEVENT
BEGIN:VEVENT
DTSTAMP:20260420T160842
DTSTART;TZID=Europe/Berlin:20260930T083000
DTEND;TZID=Europe/Berlin:20260930T133000
UID:261759088F-20260930T083000@VHSVÖLKLINGEN
SUMMARY:Allgemeiner Integrationskurs SL 88-2026 (261759088F) 
LOCATION:Lernzentrum Luisenthal, Raum 3, Neue Straße 14, 66333 Völklingen
END:VEVENT
BEGIN:VEVENT
DTSTAMP:20260420T160842
DTSTART;TZID=Europe/Berlin:20261001T083000
DTEND;TZID=Europe/Berlin:20261001T141500
UID:261759088F-20261001T083000@VHSVÖLKLINGEN
SUMMARY:Allgemeiner Integrationskurs SL 88-2026 (261759088F) 
LOCATION:Lernzentrum Luisenthal, Raum 3, Neue Straße 14, 66333 Völklingen
END:VEVENT
BEGIN:VEVENT
DTSTAMP:20260420T160842
DTSTART;TZID=Europe/Berlin:20261019T083000
DTEND;TZID=Europe/Berlin:20261019T133000
UID:261759088F-20261019T083000@VHSVÖLKLINGEN
SUMMARY:Allgemeiner Integrationskurs SL 88-2026 (261759088F) 
LOCATION:Lernzentrum Luisenthal, Raum 3, Neue Straße 14, 66333 Völklingen
END:VEVENT
BEGIN:VEVENT
DTSTAMP:20260420T160842
DTSTART;TZID=Europe/Berlin:20261020T083000
DTEND;TZID=Europe/Berlin:20261020T133000
UID:261759088F-20261020T083000@VHSVÖLKLINGEN
SUMMARY:Allgemeiner Integrationskurs SL 88-2026 (261759088F) 
LOCATION:Lernzentrum Luisenthal, Raum 3, Neue Straße 14, 66333 Völklingen
END:VEVENT
BEGIN:VEVENT
DTSTAMP:20260420T160842
DTSTART;TZID=Europe/Berlin:20261021T083000
DTEND;TZID=Europe/Berlin:20261021T133000
UID:261759088F-20261021T083000@VHSVÖLKLINGEN
SUMMARY:Allgemeiner Integrationskurs SL 88-2026 (261759088F) 
LOCATION:Lernzentrum Luisenthal, Raum 3, Neue Straße 14, 66333 Völklingen
END:VEVENT
BEGIN:VEVENT
DTSTAMP:20260420T160842
DTSTART;TZID=Europe/Berlin:20261022T083000
DTEND;TZID=Europe/Berlin:20261022T141500
UID:261759088F-20261022T083000@VHSVÖLKLINGEN
SUMMARY:Allgemeiner Integrationskurs SL 88-2026 (261759088F) 
LOCATION:Lernzentrum Luisenthal, Raum 3, Neue Straße 14, 66333 Völklingen
END:VEVENT
BEGIN:VEVENT
DTSTAMP:20260420T160842
DTSTART;TZID=Europe/Berlin:20261026T083000
DTEND;TZID=Europe/Berlin:20261026T133000
UID:261759088F-20261026T083000@VHSVÖLKLINGEN
SUMMARY:Allgemeiner Integrationskurs SL 88-2026 (261759088F) 
LOCATION:Lernzentrum Luisenthal, Raum 3, Neue Straße 14, 66333 Völklingen
END:VEVENT
BEGIN:VEVENT
DTSTAMP:20260420T160842
DTSTART;TZID=Europe/Berlin:20261027T083000
DTEND;TZID=Europe/Berlin:20261027T133000
UID:261759088F-20261027T083000@VHSVÖLKLINGEN
SUMMARY:Allgemeiner Integrationskurs SL 88-2026 (261759088F) 
LOCATION:Lernzentrum Luisenthal, Raum 3, Neue Straße 14, 66333 Völklingen
END:VEVENT
BEGIN:VEVENT
DTSTAMP:20260420T160842
DTSTART;TZID=Europe/Berlin:20261028T083000
DTEND;TZID=Europe/Berlin:20261028T133000
UID:261759088F-20261028T083000@VHSVÖLKLINGEN
SUMMARY:Allgemeiner Integrationskurs SL 88-2026 (261759088F) 
LOCATION:Lernzentrum Luisenthal, Raum 3, Neue Straße 14, 66333 Völklingen
END:VEVENT
BEGIN:VEVENT
DTSTAMP:20260420T160842
DTSTART;TZID=Europe/Berlin:20261029T083000
DTEND;TZID=Europe/Berlin:20261029T141500
UID:261759088F-20261029T083000@VHSVÖLKLINGEN
SUMMARY:Allgemeiner Integrationskurs SL 88-2026 (261759088F) 
LOCATION:Lernzentrum Luisenthal, Raum 3, Neue Straße 14, 66333 Völklingen
END:VEVENT
BEGIN:VEVENT
DTSTAMP:20260420T160842
DTSTART;TZID=Europe/Berlin:20261102T083000
DTEND;TZID=Europe/Berlin:20261102T133000
UID:261759088F-20261102T083000@VHSVÖLKLINGEN
SUMMARY:Allgemeiner Integrationskurs SL 88-2026 (261759088F) 
LOCATION:Lernzentrum Luisenthal, Raum 3, Neue Straße 14, 66333 Völklingen
END:VEVENT
BEGIN:VEVENT
DTSTAMP:20260420T160842
DTSTART;TZID=Europe/Berlin:20261103T083000
DTEND;TZID=Europe/Berlin:20261103T133000
UID:261759088F-20261103T083000@VHSVÖLKLINGEN
SUMMARY:Allgemeiner Integrationskurs SL 88-2026 (261759088F) 
LOCATION:Lernzentrum Luisenthal, Raum 3, Neue Straße 14, 66333 Völklingen
END:VEVENT
BEGIN:VEVENT
DTSTAMP:20260420T160842
DTSTART;TZID=Europe/Berlin:20261104T083000
DTEND;TZID=Europe/Berlin:20261104T133000
UID:261759088F-20261104T083000@VHSVÖLKLINGEN
SUMMARY:Allgemeiner Integrationskurs SL 88-2026 (261759088F) 
LOCATION:Lernzentrum Luisenthal, Raum 3, Neue Straße 14, 66333 Völklingen
END:VEVENT
END:VCALENDAR