BEGIN:VCALENDAR
VERSION:2.0
PRODID:https://www.kufer.de/kuferweb / DE
METHOD:PUBLISH
CALSCALE:GREGORIAN
X-WR-TIMEZONE:Europe/Berlin
BEGIN:VTIMEZONE
TZID:Europe/Berlin
X-LIC-LOCATION:Europe/Berlin
BEGIN:DAYLIGHT
TZOFFSETFROM:+0100
TZOFFSETTO:+0200
TZNAME:CEST
DTSTART:19700329T020000
RRULE:FREQ=YEARLY;INTERVAL=1;BYDAY=-1SU;BYMONTH=3
END:DAYLIGHT
BEGIN:STANDARD
TZOFFSETFROM:+0200
TZOFFSETTO:+0100
TZNAME:CET
DTSTART:19701025T030000
RRULE:FREQ=YEARLY;INTERVAL=1;BYDAY=-1SU;BYMONTH=10
END:STANDARD
END:VTIMEZONE
BEGIN:VEVENT
DTSTAMP:20260420T105554
DTSTART;TZID=Europe/Berlin:20260323T190000
DTEND;TZID=Europe/Berlin:20260323T203000
UID:261801320-20260323T190000@VHSVÖLKLINGEN
SUMMARY:Pilates - Systematisches Ganzkörpertraining für alle (261801320) 
LOCATION:Albert-Einstein-Gymnasium, Alte Halle, Hohenzollernstraße 28, Eingang Danzigerstr., 66333 Völklingen
END:VEVENT
BEGIN:VEVENT
DTSTAMP:20260420T105554
DTSTART;TZID=Europe/Berlin:20260330T190000
DTEND;TZID=Europe/Berlin:20260330T203000
UID:261801320-20260330T190000@VHSVÖLKLINGEN
SUMMARY:Pilates - Systematisches Ganzkörpertraining für alle (261801320) 
LOCATION:Albert-Einstein-Gymnasium, Alte Halle, Hohenzollernstraße 28, Eingang Danzigerstr., 66333 Völklingen
END:VEVENT
BEGIN:VEVENT
DTSTAMP:20260420T105554
DTSTART;TZID=Europe/Berlin:20260420T190000
DTEND;TZID=Europe/Berlin:20260420T203000
UID:261801320-20260420T190000@VHSVÖLKLINGEN
SUMMARY:Pilates - Systematisches Ganzkörpertraining für alle (261801320) 
LOCATION:Albert-Einstein-Gymnasium, Alte Halle, Hohenzollernstraße 28, Eingang Danzigerstr., 66333 Völklingen
END:VEVENT
BEGIN:VEVENT
DTSTAMP:20260420T105554
DTSTART;TZID=Europe/Berlin:20260427T190000
DTEND;TZID=Europe/Berlin:20260427T203000
UID:261801320-20260427T190000@VHSVÖLKLINGEN
SUMMARY:Pilates - Systematisches Ganzkörpertraining für alle (261801320) 
LOCATION:Albert-Einstein-Gymnasium, Alte Halle, Hohenzollernstraße 28, Eingang Danzigerstr., 66333 Völklingen
END:VEVENT
BEGIN:VEVENT
DTSTAMP:20260420T105554
DTSTART;TZID=Europe/Berlin:20260504T190000
DTEND;TZID=Europe/Berlin:20260504T203000
UID:261801320-20260504T190000@VHSVÖLKLINGEN
SUMMARY:Pilates - Systematisches Ganzkörpertraining für alle (261801320) 
LOCATION:Albert-Einstein-Gymnasium, Alte Halle, Hohenzollernstraße 28, Eingang Danzigerstr., 66333 Völklingen
END:VEVENT
BEGIN:VEVENT
DTSTAMP:20260420T105554
DTSTART;TZID=Europe/Berlin:20260511T190000
DTEND;TZID=Europe/Berlin:20260511T203000
UID:261801320-20260511T190000@VHSVÖLKLINGEN
SUMMARY:Pilates - Systematisches Ganzkörpertraining für alle (261801320) 
LOCATION:Albert-Einstein-Gymnasium, Alte Halle, Hohenzollernstraße 28, Eingang Danzigerstr., 66333 Völklingen
END:VEVENT
BEGIN:VEVENT
DTSTAMP:20260420T105554
DTSTART;TZID=Europe/Berlin:20260518T190000
DTEND;TZID=Europe/Berlin:20260518T203000
UID:261801320-20260518T190000@VHSVÖLKLINGEN
SUMMARY:Pilates - Systematisches Ganzkörpertraining für alle (261801320) 
LOCATION:Albert-Einstein-Gymnasium, Alte Halle, Hohenzollernstraße 28, Eingang Danzigerstr., 66333 Völklingen
END:VEVENT
BEGIN:VEVENT
DTSTAMP:20260420T105554
DTSTART;TZID=Europe/Berlin:20260601T190000
DTEND;TZID=Europe/Berlin:20260601T203000
UID:261801320-20260601T190000@VHSVÖLKLINGEN
SUMMARY:Pilates - Systematisches Ganzkörpertraining für alle (261801320) 
LOCATION:Albert-Einstein-Gymnasium, Alte Halle, Hohenzollernstraße 28, Eingang Danzigerstr., 66333 Völklingen
END:VEVENT
BEGIN:VEVENT
DTSTAMP:20260420T105554
DTSTART;TZID=Europe/Berlin:20260608T190000
DTEND;TZID=Europe/Berlin:20260608T203000
UID:261801320-20260608T190000@VHSVÖLKLINGEN
SUMMARY:Pilates - Systematisches Ganzkörpertraining für alle (261801320) 
LOCATION:Albert-Einstein-Gymnasium, Alte Halle, Hohenzollernstraße 28, Eingang Danzigerstr., 66333 Völklingen
END:VEVENT
BEGIN:VEVENT
DTSTAMP:20260420T105554
DTSTART;TZID=Europe/Berlin:20260615T190000
DTEND;TZID=Europe/Berlin:20260615T203000
UID:261801320-20260615T190000@VHSVÖLKLINGEN
SUMMARY:Pilates - Systematisches Ganzkörpertraining für alle (261801320) 
LOCATION:Albert-Einstein-Gymnasium, Alte Halle, Hohenzollernstraße 28, Eingang Danzigerstr., 66333 Völklingen
END:VEVENT
END:VCALENDAR